BEGIN:VCALENDAR
VERSION:2.0
PRODID:-//SVP Interlaken-Oberhasli //NONSGML Events //EN
CALSCALE:GREGORIAN
X-WR-CALNAME:SVP Interlaken-Oberhasli
BEGIN:VEVENT
CREATED:20260114T080644Z
UID:1092
DTEND:20261029T210000
DTSTART:20261029T200000
DTSTAMP:20260422T043629Z
LOCATION:Unterseen
DESCRIPTION:
SUMMARY:Kreisverband Delegiertenversammlung Unterseen Hotel Beau-Site
ORGANIZER:
URL;VALUE=URI:https://www.svp-io.ch/termine/delegiertenversammlung/
TRANSP:OPAQUE
END:VEVENT
END:VCALENDAR
