BEGIN:VCALENDAR
VERSION:2.0
PRODID:-//SVP Interlaken-Oberhasli //NONSGML Events //EN
CALSCALE:GREGORIAN
X-WR-CALNAME:SVP Interlaken-Oberhasli
BEGIN:VEVENT
CREATED:20260114T081504Z
UID:1099
DTEND:20260819T210000
DTSTART:20260819T200000
DTSTAMP:20260422T042844Z
LOCATION:Ringgenberg Restaurant Burgseeli
DESCRIPTION:
SUMMARY:Kreisverband Delegiertenversammlung
ORGANIZER:
URL;VALUE=URI:https://www.svp-io.ch/termine/kreisverband-delegiertenversammlung-4/
TRANSP:OPAQUE
END:VEVENT
END:VCALENDAR
