BEGIN:VCALENDAR
VERSION:2.0
PRODID:-//SVP Interlaken-Oberhasli //NONSGML Events //EN
CALSCALE:GREGORIAN
X-WR-CALNAME:SVP Interlaken-Oberhasli
BEGIN:VEVENT
CREATED:20260114T081615Z
UID:1101
DTEND:20260511T210000
DTSTART:20260511T200000
DTSTAMP:20260422T055625Z
LOCATION:Brienz
DESCRIPTION:
SUMMARY:Hauptversammlung Kreisverband Restaurant Steinbock Brienz
ORGANIZER:
URL;VALUE=URI:https://www.svp-io.ch/termine/hauptversammlung-kreisverband/
TRANSP:OPAQUE
END:VEVENT
END:VCALENDAR
